Workbook

Sheet Zásobník projektov SS
A2: Súkromný sektor | B2: 4.1 - Podpora na investície do poľnoospodárskych podnikov | D2: 4.2 - Podpora pre investície na spracovanie/uvádzanie na trh a/alebo vývoj poľnohospodárskych výrobkov | F2: 6.4 - Podpora na investície do vytvárania a rozvoja nepoľnohospodárskych činností | H2: 5.1.1 - Zvýšenie zamestnanosti na miesnej úrovni podporou podnikania a inovácií časť A,B | J2: 5.1.1 - Zvýšenie zamestnanosti na miestej úrovni podporou podnikania a inovácií časť C,D - marketing | L2: Zostatková finančná alokácia pre obec
A3: Alokácia opatrenia | B3: 123036 | D3: 118370 | F3: 509727.27 | H3: 184210.91 | J3: 33981.82
A4: Potenciálna volná alokácia na opatrenie | B4: =B3-C6-C7-C8-C9-C10-C11-C12-C13-C14-C15-C16-C17-C18-C19-C20-C21-C22-C23-C24-C25-C26-C27-C28-C29 -> 123036 | D4: =D3-E6-E7-E8-E9-E10-E11-E12-E13-E14-E15-E16-E17-E18-E19-E20-E21-E22-E23-E24-E25-E26-E27-E28-E29 -> 118370 | F4: =F3-G6-G7-G8-G9-G10-G11-G12-G13-G14-G15-G16-G17-G18-G19-G20-G21-G22-G23-G24-G25-G26-G27-G28-G29 -> 509727.27 | H4: =H3-I6-I7-I8-I9-I10-I11-I12-I13-I14-I15-I16-I17-I18-I19-I20-I21-I22-I23-I24-I25-I26-I27-I28-I29 -> 134210.91 | J4: =J3-K6-K7-K8-K9-K10-K11-K12-K13-K14-K15-K16-K17-K18-K19-K20-K21-K22-K23-K24-K25-K26-K27-K28-K29 -> 13981.82
B5: Názov projektu | C5: COV | D5: Názov projektu | E5: COV | F5: Názov projektu | G5: COV | H5: Názov projektu | I5: COV | J5: Názov projektu | K5: COV
A6: Bzovík | L6: =#REF!-'Zásobník projektov SS'!C6-'Zásobník projektov SS'!E6-'Zásobník projektov SS'!G6-'Zásobník projektov SS'!I6-'Zásobník projektov SS'!K6 -> #REF!
A7: Cerovo | L7: =#REF!-'Zásobník projektov SS'!C7-'Zásobník projektov SS'!E7-'Zásobník projektov SS'!G7-'Zásobník projektov SS'!I7-'Zásobník projektov SS'!K7 -> #REF!
A8: Čabradský Vrbovok | L8: =#REF!-'Zásobník projektov SS'!C8-'Zásobník projektov SS'!E8-'Zásobník projektov SS'!G8-'Zásobník projektov SS'!I8-'Zásobník projektov SS'!K8 -> #REF!
A9: Čekovce | L9: =#REF!-'Zásobník projektov SS'!C9-'Zásobník projektov SS'!E9-'Zásobník projektov SS'!G9-'Zásobník projektov SS'!I9-'Zásobník projektov SS'!K9 -> #REF!
A10: Dolný Badín | L10: =#REF!-'Zásobník projektov SS'!C10-'Zásobník projektov SS'!E10-'Zásobník projektov SS'!G10-'Zásobník projektov SS'!I10-'Zásobník projektov SS'!K10 -> #REF!
A11: Dolné Mladonice | L11: =#REF!-'Zásobník projektov SS'!C11-'Zásobník projektov SS'!E11-'Zásobník projektov SS'!G11-'Zásobník projektov SS'!I11-'Zásobník projektov SS'!K11 -> #REF!
A12: Drieňovo | L12: =#REF!-'Zásobník projektov SS'!C12-'Zásobník projektov SS'!E12-'Zásobník projektov SS'!G12-'Zásobník projektov SS'!I12-'Zásobník projektov SS'!K12 -> #REF!
A13: Horný Badín | L13: =#REF!-'Zásobník projektov SS'!C13-'Zásobník projektov SS'!E13-'Zásobník projektov SS'!G13-'Zásobník projektov SS'!I13-'Zásobník projektov SS'!K13 -> #REF!
A14: Horné Mladonice | L14: =#REF!-'Zásobník projektov SS'!C14-'Zásobník projektov SS'!E14-'Zásobník projektov SS'!G14-'Zásobník projektov SS'!I14-'Zásobník projektov SS'!K14 -> #REF!
A15: Jalšovík | L15: =#REF!-'Zásobník projektov SS'!C15-'Zásobník projektov SS'!E15-'Zásobník projektov SS'!G15-'Zásobník projektov SS'!I15-'Zásobník projektov SS'!K15 -> #REF!
A16: Kozí Vrbovok | L16: =#REF!-'Zásobník projektov SS'!C16-'Zásobník projektov SS'!E16-'Zásobník projektov SS'!G16-'Zásobník projektov SS'!I16-'Zásobník projektov SS'!K16 -> #REF!
A17: Lackov | L17: =#REF!-'Zásobník projektov SS'!C17-'Zásobník projektov SS'!E17-'Zásobník projektov SS'!G17-'Zásobník projektov SS'!I17-'Zásobník projektov SS'!K17 -> #REF!
... A24: Dačov Lom | L24: =#REF!-'Zásobník projektov SS'!C24-'Zásobník projektov SS'!E24-'Zásobník projektov SS'!G24-'Zásobník projektov SS'!I24-'Zásobník projektov SS'!K24 -> #REF!
A25: Dolné Plachtince | H25: Baraskový spolok - rozbeh podniku | I25: 50000 | J25: Baraskový spolok - marketing štartu | K25: 20000 | L25: =#REF!-'Zásobník projektov SS'!C25-'Zásobník projektov SS'!E25-'Zásobník projektov SS'!G25-'Zásobník projektov SS'!I25-'Zásobník projektov SS'!K25 -> #REF!
A26: Horné Plachtince | L26: =#REF!-'Zásobník projektov SS'!C26-'Zásobník projektov SS'!E26-'Zásobník projektov SS'!G26-'Zásobník projektov SS'!I26-'Zásobník projektov SS'!K26 -> #REF!
A27: Modrý Kameň | L27: =#REF!-'Zásobník projektov SS'!C27-'Zásobník projektov SS'!E27-'Zásobník projektov SS'!G27-'Zásobník projektov SS'!I27-'Zásobník projektov SS'!K27 -> #REF!
A28: Stredné Plachtince | L28: =#REF!-'Zásobník projektov SS'!C28-'Zásobník projektov SS'!E28-'Zásobník projektov SS'!G28-'Zásobník projektov SS'!I28-'Zásobník projektov SS'!K28 -> #REF!
A29: Sucháň | L29: =#REF!-'Zásobník projektov SS'!C29-'Zásobník projektov SS'!E29-'Zásobník projektov SS'!G29-'Zásobník projektov SS'!I29-'Zásobník projektov SS'!K29 -> #REF!
A30: Implementácia % | B30: =(C6+C7+C8+C9+C10+C11+C12+C13+C14+C15+C16+C17+C18+C19+C20+C21+C22+C23+C24+C25+C26+C27+C28+C29)/3702.81 -> 0 | D30: =(E6+E7+E8+E9+E10+E11+E12+E13+E14+E15+E16+E17+E18+E19+E20+E21+E22+E23+E24+E25+E26+E27+E28+E29)/311.5 -> 0 | F30: =(G6+G7+G8+G9+G10+G11+G12+G13+G14+G15+G16+G17+G18+G19+G20+G21+G22+G23+G24+G25+G26+G27+G28+G29)/311.5 -> 0 | H30: =(I6+I7+I8+I9+I10+I11+I12+I13+I14+I15+I16+I17+I18+I19+I20+I21+I22+I23+I24+I25+I26+I27+I28+I29)/1688.5263 -> 29.611621 | J30: =(K6+K7+K8+K9+K10+K11+K12+K13+K14+K15+K16+K17+K18+K19+K20+K21+K22+K23+K24+K25+K26+K27+K28+K29)/4321.6842 -> 4.6278254
